View In:
ArcGIS JavaScript
ArcGIS Online Map Viewer
ArcGIS Earth
Service Description: Published with Raster Functions. You can choose between Natural Color, Enhanced ESRI stretch Natural Color, or Enhanced InfraRed Imagery.
Name: Imagery/Naip2025
Description: Published with Raster Functions. You can choose between Natural Color, Enhanced ESRI stretch Natural Color, or Enhanced InfraRed Imagery.
Single Fused Map Cache: false
Extent:
XMin: -1.0511626178176165E7
YMin: 5944765.287491049
XMax: -1.0358792660353487E7
YMax: 6090456.153024779
Spatial Reference: 102100
(3857)
Initial Extent:
XMin: -1.0511626178176165E7
YMin: 5944765.287491049
XMax: -1.0358792660353487E7
YMax: 6090456.153024779
Spatial Reference: 102100
(3857)
Full Extent:
XMin: -1.0511626178176165E7
YMin: 5944765.287491049
XMax: -1.0358792660353487E7
YMax: 6090456.153024779
Spatial Reference: 102100
(3857)
Pixel Size X: 0.6
Pixel Size Y: 0.6
Band Count: 4
Pixel Type: U8
RasterFunction Infos: {"rasterFunctionInfos": [
{
"help": "",
"name": "NatColor25",
"description": "brightness -2, contrast 12, gamma red 1, green 0.9, blue 1"
},
{
"help": "",
"name": "None",
"description": "Make a Raster or Raster Dataset into a Function Raster Dataset."
},
{
"help": "",
"name": "NatColorESRI_Naip2025",
"description": "Set NatColor to stretch ESRI and brightness -3, contrast 9"
},
{
"help": "",
"name": "Red2025",
"description": "Change Natural Color to InfraRed bands, stretch Standard Dev.., and adjust contrast to 9 and -3 brightness"
}
]}
Mensuration Capabilities: None
Inspection Capabilities:
Has Histograms: true
Has Colormap: false
Has Multi Dimensions : false
Rendering Rule:
Min Scale: 147914381.89788899
Max Scale: 2256.994353
Min LOD: 2
Max LOD: 18
Resampling: false
Copyright Text:
Service Data Type: esriImageServiceDataTypeProcessed
Min Values: 0, 5, 34, 0
Max Values: 255, 255, 255, 255
Mean Values: 114.85819136470654, 118.35927574312018, 102.44291203898406, 175.29952256184413
Standard Deviation Values: 32.37270849189359, 24.273156120585565, 14.6070997273905, 52.222291078867308
Object ID Field: OBJECTID
Fields:
-
OBJECTID
(
alias: OBJECTID, type: esriFieldTypeOID
)
-
Name
(
length: 200, alias: Name, type: esriFieldTypeString
)
-
MinPS
(
alias: MinPS, type: esriFieldTypeDouble
)
-
MaxPS
(
alias: MaxPS, type: esriFieldTypeDouble
)
-
LowPS
(
alias: LowPS, type: esriFieldTypeDouble
)
-
HighPS
(
alias: HighPS, type: esriFieldTypeDouble
)
-
Category
(
alias: Category, type: esriFieldTypeInteger
, Coded Values:
[0: Unknown]
, [1: Primary]
, [2: Overview]
, ...6 more...
)
-
Tag
(
length: 100, alias: Tag, type: esriFieldTypeString
)
-
GroupName
(
length: 100, alias: GroupName, type: esriFieldTypeString
)
-
ProductName
(
length: 100, alias: ProductName, type: esriFieldTypeString
)
-
CenterX
(
alias: CenterX, type: esriFieldTypeDouble
)
-
CenterY
(
alias: CenterY, type: esriFieldTypeDouble
)
-
ZOrder
(
alias: ZOrder, type: esriFieldTypeInteger
)
-
Shape
(
alias: Shape, type: esriFieldTypeGeometry
)
-
Shape.STArea()
(
alias: Shape.STArea(), type: esriFieldTypeDouble
)
-
Shape.STLength()
(
alias: Shape.STLength(), type: esriFieldTypeDouble
)
Default Mosaic Method: Northwest
Allowed Mosaic Methods: NorthWest,Center,LockRaster,ByAttribute,Nadir,Viewpoint,Seamline,None
SortField:
SortValue: N/A
Mosaic Operator: First
Default Compression Quality: 80
Default Resampling Method: Bilinear
Max Record Count: 1000
Max Image Height: 4100
Max Image Width: 15000
Max Download Image Count: 20
Max Mosaic Image Count: 20
Allow Raster Function: true
Allow Copy: true
Allow Analysis: true
Allow Compute TiePoints: false
Supports Statistics: true
Supports Advanced Queries: true
Use StandardizedQueries: true
Raster Type Infos:
Name: Raster Dataset
Description: Supports all ArcGIS Raster Datasets
Help:
Has Raster Attribute Table: false
Edit Fields Info: N/A
Ownership Based AccessControl For Rasters: N/A
Child Resources:
Info
Histograms
Statistics
Key Properties
Legend
Raster Function Infos
Supported Operations:
Export Image
Query
Identify
Compute Histograms
Compute Statistics Histograms
Get Samples
Compute Class Statistics
Query GPS Info
Find Images
Image to Map
Map to Image
Measure from Image
Image to Map Multiray
Query Boundary
Compute Pixel Location
Compute Angles
Validate
Project
EstimateExportTilesSize
ExportTiles