View In:
ArcGIS JavaScript
ArcGIS Online Map Viewer
ArcGIS Earth
Service Description: Imagery/NAIP_2025
Name: Imagery/NAIP_2025
Description:
Single Fused Map Cache: false
Extent:
XMin: 391467
YMin: 5205149.999895463
XMax: 500013
YMax: 5309688.000000001
Spatial Reference: 26915
(26915)
Initial Extent:
XMin: 391467
YMin: 5205149.999895463
XMax: 500013
YMax: 5309688.000000001
Spatial Reference: 26915
(26915)
Full Extent:
XMin: 391467
YMin: 5205149.999895463
XMax: 500013
YMax: 5309688.000000001
Spatial Reference: 26915
(26915)
Pixel Size X: 0.6
Pixel Size Y: 0.6000000006000009
Band Count: 5
Pixel Type: U8
RasterFunction Infos: {"rasterFunctionInfos": [{
"name": "None",
"description": "",
"help": ""
}]}
Mensuration Capabilities: Basic
Has Histograms: true
Has Colormap: false
Has Multi Dimensions : false
Rendering Rule:
Min Scale: 0
Max Scale: 0
Copyright Text:
Service Data Type: esriImageServiceDataTypeGeneric
Min Values: 0, 0, 0, 0, 0
Max Values: 215, 195, 188, 255, 255
Mean Values: 90.69427750196, 93.518813692187, 81.025999477397, 138.09119414685, 201.23713091194
Standard Deviation Values: 49.499410233366, 49.394212089918, 42.520020686096, 79.647013540606, 102.64987169908
Object ID Field:
Fields:
None
Default Mosaic Method: Center
Allowed Mosaic Methods:
SortField:
SortValue: null
Mosaic Operator: First
Default Compression Quality: 75
Default Resampling Method: Bilinear
Max Record Count: null
Max Image Height: 4100
Max Image Width: 15000
Max Download Image Count: null
Max Mosaic Image Count: null
Allow Raster Function: true
Allow Copy: true
Allow Analysis: true
Allow Compute TiePoints: false
Supports Statistics: false
Supports Advanced Queries: false
Use StandardizedQueries: true
Raster Type Infos:
Name: Raster Dataset
Description: Supports all ArcGIS Raster Datasets
Help:
Has Raster Attribute Table: false
Edit Fields Info: null
Ownership Based AccessControl For Rasters: null
Child Resources:
Info
Histograms
Statistics
Key Properties
Legend
Raster Function Infos
Supported Operations:
Export Image
Identify
Measure
Compute Histograms
Compute Statistics Histograms
Get Samples
Compute Class Statistics
Query Boundary
Compute Pixel Location
Compute Angles
Validate
Project