View In:
ArcGIS JavaScript
ArcGIS Online Map Viewer
ArcGIS Earth
Service Description: Imagery/NAIP_2023
Name: Imagery/NAIP_2023
Description:
Single Fused Map Cache: false
Extent:
XMin: -1.0514898026249839E7
YMin: 5940174.346239054
XMax: -1.0352265626249839E7
YMax: 6097389.346239053
Spatial Reference: 102100
(3857)
Initial Extent:
XMin: -1.0514898026249839E7
YMin: 5940174.346239054
XMax: -1.0352265626249839E7
YMax: 6097389.346239053
Spatial Reference: 102100
(3857)
Full Extent:
XMin: -1.0514898026249839E7
YMin: 5940174.346239054
XMax: -1.0352265626249839E7
YMax: 6097389.346239053
Spatial Reference: 102100
(3857)
Pixel Size X: 0.3000000000000007
Pixel Size Y: 0.2999999999999982
Band Count: 3
Pixel Type: U8
RasterFunction Infos: {"rasterFunctionInfos": [{
"help": "",
"name": "None",
"description": ""
}]}
Mensuration Capabilities: Basic
Inspection Capabilities:
Has Histograms: true
Has Colormap: false
Has Multi Dimensions : false
Rendering Rule:
Min Scale: 0
Max Scale: 0
Copyright Text:
Service Data Type: esriImageServiceDataTypeRGB
Min Values: 0, 0, 0
Max Values: 255, 255, 255
Mean Values: 98.625199112326825, 111.8632572282322, 85.822061668721858
Standard Deviation Values: 41.806523311072866, 38.057822217718467, 30.821953722017653
Object ID Field:
Fields:
None
Default Mosaic Method: Center
Allowed Mosaic Methods:
SortField:
SortValue: N/A
Mosaic Operator: First
Default Compression Quality: 75
Default Resampling Method: Bilinear
Max Record Count: null
Max Image Height: 4100
Max Image Width: 15000
Max Download Image Count: null
Max Mosaic Image Count: null
Allow Raster Function: true
Allow Copy: true
Allow Analysis: true
Allow Compute TiePoints: false
Supports Statistics: false
Supports Advanced Queries: false
Use StandardizedQueries: false
Raster Type Infos:
Name: Raster Dataset
Description: Supports all ArcGIS Raster Datasets
Help:
Has Raster Attribute Table: false
Edit Fields Info: N/A
Ownership Based AccessControl For Rasters: N/A
Child Resources:
Info
Histograms
Statistics
Key Properties
Legend
Raster Function Infos
Supported Operations:
Export Image
Identify
Measure
Compute Histograms
Compute Statistics Histograms
Get Samples
Compute Class Statistics
Query Boundary
Compute Pixel Location
Compute Angles
Validate
Project