{ "extent": { "ymin": 5946180.5463340841, "xmin": -10510704.355699999, "ymax": 6090063.5028999969, "xmax": -10358893.078077445, "spatialReference": { "latestWkid": 3857, "wkid": 102100 } }, "blockWidth": 2048, "mosaicOperator": "First", "serviceSourceType": "esriImageServiceSourceTypeMosaicDataset", "hasMultidimensions": false, "maxImageWidth": 15000, "maxRecordCount": 1000, "tileInfo": { "lods": [ { "level": 0, "scale": 591657527.591555, "resolution": 156543.03392800014 }, { "level": 1, "scale": 295828763.79577702, "resolution": 78271.516963999937 }, { "level": 2, "scale": 147914381.89788899, "resolution": 39135.758482000092 }, { "level": 3, "scale": 73957190.948944002, "resolution": 19567.879240999919 }, { "level": 4, "scale": 36978595.474472001, "resolution": 9783.9396204999593 }, { "level": 5, "scale": 18489297.737236001, "resolution": 4891.9698102499797 }, { "level": 6, "scale": 9244648.8686180003, "resolution": 2445.9849051249898 }, { "level": 7, "scale": 4622324.4343090001, "resolution": 1222.9924525624949 }, { "level": 8, "scale": 2311162.2171550002, "resolution": 611.49622628137968 }, { "level": 9, "scale": 1155581.108577, "resolution": 305.74811314055756 }, { "level": 10, "scale": 577790.55428899999, "resolution": 152.87405657041106 }, { "level": 11, "scale": 288895.27714399999, "resolution": 76.437028285073239 }, { "level": 12, "scale": 144447.638572, "resolution": 38.21851414253662 }, { "level": 13, "scale": 72223.819285999998, "resolution": 19.10925707126831 }, { "level": 14, "scale": 36111.909642999999, "resolution": 9.5546285356341549 }, { "level": 15, "scale": 18055.954822, "resolution": 4.7773142679493699 }, { "level": 16, "scale": 9027.9774109999998, "resolution": 2.3886571339746849 }, { "level": 17, "scale": 4513.9887049999998, "resolution": 1.1943285668550503 }, { "level": 18, "scale": 2256.994353, "resolution": 0.59716428355981721 }, { "level": 19, "scale": 1128.4971760000001, "resolution": 0.29858214164761665 }, { "level": 20, "scale": 564.24858800000004, "resolution": 0.14929107082380833 }, { "level": 21, "scale": 282.12429400000002, "resolution": 0.074645535411904163 }, { "level": 22, "scale": 141.06214700000001, "resolution": 0.037322767705952081 }, { "level": 23, "scale": 70.531073500000005, "resolution": 0.018661383852976041 } ], "origin": { "x": -20037508.342787001, "y": 20037508.342787001 }, "format": "MIXED", "compressionQuality": 75, "rows": 256, "dpi": 96, "spatialReference": { "latestWkid": 3857, "wkid": 102100 }, "cols": 256 }, "meanValues": [ 109.08216140483516, 108.04697326422909, 97.004374321860766 ], "hasColormap": false, "compressionType": "None", "defaultCompressionQuality": 75, "maxValues": [ 255, 255, 245 ], "hasHistograms": true, "datasetFormat": "AMD", "maxImageHeight": 4100, "sortField": "", "bandNames": [ "Red", "Green", "Blue" ], "spatialReference": { "latestWkid": 3857, "wkid": 102100 }, "fullExtent": { "ymin": 5946180.5463340841, "xmin": -10510704.355699999, "ymax": 6090063.5028999969, "xmax": -10358893.078077445, "spatialReference": { "latestWkid": 3857, "wkid": 102100 } }, "bandCount": 3, "rasterFunctionInfos": [ { "help": "", "name": "Enhanced_2023_ImageryTemplate", "description": "brightness -5, contrast 7, min-max stretch" }, { "help": "", "name": "None", "description": "Make a Raster or Raster Dataset into a Function Raster Dataset." } ], "supportsStatistics": true, "sortableFields": "MinPS,MaxPS,LowPS,HighPS,CenterX,CenterY,ZOrder", "minValues": [ 0, 0, 9 ], "allowRasterFunction": true, "allowComputeTiePoints": false, "serviceDataType": "esriImageServiceDataTypeRGB", "supportsAdvancedQueries": true, "maxDownloadSizeLimit": 2048, "currentVersion": 12.1, "maxExportTilesCount": 100000, "sortValue": null, "objectIdField": "OBJECTID", "blockHeight": 256, "initialExtent": { "ymin": 5946180.5463340841, "xmin": -10510704.355699999, "ymax": 6090063.5028999969, "xmax": -10358893.078077445, "spatialReference": { "latestWkid": 3857, "wkid": 102100 } }, "pixelSizeX": 0.15240030480060882, "pixelSizeY": 0.15240030480060926, "defaultMosaicMethod": "Northwest", "name": "Imagery/Itasca_2023_Spring", "allowedMosaicMethods": "NorthWest,Center,LockRaster,ByAttribute,Nadir,Viewpoint,Seamline,None", "maxDownloadImageCount": 20, "fields": [ { "domain": null, "name": "OBJECTID", "alias": "OBJECTID", "type": "esriFieldTypeOID" }, { "domain": null, "name": "Name", "length": 200, "alias": "Name", "type": "esriFieldTypeString" }, { "domain": null, "name": "MinPS", "alias": "MinPS", "type": "esriFieldTypeDouble" }, { "domain": null, "name": "MaxPS", "alias": "MaxPS", "type": "esriFieldTypeDouble" }, { "domain": null, "name": "LowPS", "alias": "LowPS", "type": "esriFieldTypeDouble" }, { "domain": null, "name": "HighPS", "alias": "HighPS", "type": "esriFieldTypeDouble" }, { "domain": { "splitPolicy": "esriSPTDefaultValue", "name": "MosaicCatalogItemCategoryDomain", "description": "Catalog item categories.", "type": "codedValue", "codedValues": [ { "code": 0, "name": "Unknown" }, { "code": 1, "name": "Primary" }, { "code": 2, "name": "Overview" }, { "code": 3, "name": "Unprocessed Overview" }, { "code": 4, "name": "Partial Overview" }, { "code": 5, "name": "Inactive" }, { "code": 253, "name": "Uploaded" }, { "code": 254, "name": "Incomplete" }, { "code": 255, "name": "Custom" } ], "mergePolicy": "esriMPTDefaultValue" }, "name": "Category", "alias": "Category", "type": "esriFieldTypeInteger" }, { "domain": null, "name": "Tag", "length": 100, "alias": "Tag", "type": "esriFieldTypeString" }, { "domain": null, "name": "GroupName", "length": 100, "alias": "GroupName", "type": "esriFieldTypeString" }, { "domain": null, "name": "ProductName", "length": 100, "alias": "ProductName", "type": "esriFieldTypeString" }, { "domain": null, "name": "CenterX", "alias": "CenterX", "type": "esriFieldTypeDouble" }, { "domain": null, "name": "CenterY", "alias": "CenterY", "type": "esriFieldTypeDouble" }, { "domain": null, "name": "ZOrder", "alias": "ZOrder", "type": "esriFieldTypeInteger" }, { "domain": null, "name": "Shape", "alias": "Shape", "type": "esriFieldTypeGeometry" } ], "allowAnalysis": true, "hasRasterAttributeTable": false, "useStandardizedQueries": true, "description": "
0.5 foot resolution Spring 2023 Leaf Off Imagery. Processing Template Applied: Min-Max Stretch, -5 Brightness, 7 Contrast<\/span><\/p> JPEG Mixed Cache to County Border<\/span><\/p><\/div><\/div><\/div>",
"pixelType": "U8",
"meanPixelSize": 0.15240030480060904,
"exportTilesAllowed": true,
"editFieldsInfo": null,
"rasterTypeInfos": [{
"help": "",
"name": "Raster Dataset",
"description": "Supports all ArcGIS Raster Datasets"
}],
"defaultResamplingMethod": "Bilinear",
"itemAccess": false,
"minScale": 591657527.591555,
"cacheType": "Map",
"serviceProperties": " 0.5 foot resolution Spring 2023 Leaf Off Imagery. Processing Template Applied: Min-Max Stretch, -5 Brightness, 7 Contrast<\/span><\/p> JPEG Mixed Cache to County Border<\/span><\/p><\/div><\/div><\/div>",
"allowCopy": true,
"copyrightText": "Prepared by Adam Olson, Forest Wildlife Conservationist, (Natural Resource GIS Coordinator), Itasca County Land Department",
"mensurationCapabilities": "NONE",
"ownershipBasedAccessControlForRasters": null
}