{
 "extent": {
  "ymin": 5942552.3837906793,
  "xmin": -10514067.187759565,
  "ymax": 6092793.3816949259,
  "xmax": -10356417.48359186,
  "spatialReference": {
   "latestWkid": 3857,
   "wkid": 102100
  }
 },
 "blockWidth": 2048,
 "mosaicOperator": "Max",
 "serviceSourceType": "esriImageServiceSourceTypeMosaicDataset",
 "hasMultidimensions": false,
 "maxImageWidth": 15000,
 "maxRecordCount": 1000,
 "tileInfo": {
  "lods": [
   {
    "level": 0,
    "scale": 591657527.591555,
    "resolution": 156543.03392799999
   },
   {
    "level": 1,
    "scale": 295828763.79577702,
    "resolution": 78271.516963999893
   },
   {
    "level": 2,
    "scale": 147914381.89788899,
    "resolution": 39135.758482000099
   },
   {
    "level": 3,
    "scale": 73957190.948944002,
    "resolution": 19567.879240999901
   },
   {
    "level": 4,
    "scale": 36978595.474472001,
    "resolution": 9783.9396204999593
   },
   {
    "level": 5,
    "scale": 18489297.737236001,
    "resolution": 4891.9698102499797
   },
   {
    "level": 6,
    "scale": 9244648.8686180003,
    "resolution": 2445.9849051249898
   },
   {
    "level": 7,
    "scale": 4622324.4343090001,
    "resolution": 1222.9924525624899
   },
   {
    "level": 8,
    "scale": 2311162.2171550002,
    "resolution": 611.49622628138002
   },
   {
    "level": 9,
    "scale": 1155581.108577,
    "resolution": 305.74811314055802
   },
   {
    "level": 10,
    "scale": 577790.55428899999,
    "resolution": 152.874056570411
   },
   {
    "level": 11,
    "scale": 288895.27714399999,
    "resolution": 76.437028285073197
   },
   {
    "level": 12,
    "scale": 144447.638572,
    "resolution": 38.218514142536598
   },
   {
    "level": 13,
    "scale": 72223.819285999998,
    "resolution": 19.109257071268299
   },
   {
    "level": 14,
    "scale": 36111.909642999999,
    "resolution": 9.5546285356341496
   },
   {
    "level": 15,
    "scale": 18055.954822,
    "resolution": 4.7773142679493699
   },
   {
    "level": 16,
    "scale": 9027.9774109999998,
    "resolution": 2.38865713397468
   },
   {
    "level": 17,
    "scale": 4513.9887049999998,
    "resolution": 1.1943285668550501
   },
   {
    "level": 18,
    "scale": 2256.994353,
    "resolution": 0.59716428355981699
   },
   {
    "level": 19,
    "scale": 1128.4971760000001,
    "resolution": 0.29858214164761698
   },
   {
    "level": 20,
    "scale": 564.24858800000004,
    "resolution": 0.14929107082380833
   },
   {
    "level": 21,
    "scale": 282.12429400000002,
    "resolution": 0.074645535411904163
   },
   {
    "level": 22,
    "scale": 141.06214700000001,
    "resolution": 0.037322767705952081
   },
   {
    "level": 23,
    "scale": 70.531073500000005,
    "resolution": 0.018661383852976041
   }
  ],
  "origin": {
   "x": -20037508.342787001,
   "y": 20037508.342787001
  },
  "format": "PNG8",
  "compressionQuality": 0,
  "rows": 256,
  "dpi": 96,
  "spatialReference": {
   "latestWkid": 3857,
   "wkid": 102100
  },
  "cols": 256
 },
 "meanValues": [
  121.77228560898884,
  127.99142171814684,
  121.83061666777773,
  132.85125863016663
 ],
 "hasColormap": false,
 "compressionType": "None",
 "defaultCompressionQuality": 75,
 "maxValues": [
  255,
  251,
  239,
  224
 ],
 "hasHistograms": true,
 "datasetFormat": "AMD",
 "maxImageHeight": 4100,
 "sortField": "",
 "bandNames": [
  "Red",
  "Green",
  "Blue",
  "Infrared"
 ],
 "spatialReference": {
  "latestWkid": 3857,
  "wkid": 102100
 },
 "fullExtent": {
  "ymin": 5942552.3837906793,
  "xmin": -10514067.187759565,
  "ymax": 6092793.3816949259,
  "xmax": -10356417.48359186,
  "spatialReference": {
   "latestWkid": 3857,
   "wkid": 102100
  }
 },
 "bandCount": 4,
 "rasterFunctionInfos": [
  {
   "help": "",
   "name": "None",
   "description": "A No-Op Function."
  }
 ],
 "supportsStatistics": true,
 "sortableFields": "",
 "minValues": [
  21,
  27,
  31,
  9
 ],
 "allowRasterFunction": true,
 "allowComputeTiePoints": false,
 "serviceDataType": "esriImageServiceDataTypeGeneric",
 "supportsAdvancedQueries": true,
 "maxDownloadSizeLimit": 2048,
 "currentVersion": 12.1,
 "sortValue": null,
 "objectIdField": "OBJECTID",
 "blockHeight": 256,
 "initialExtent": {
  "ymin": 5942552.3837906793,
  "xmin": -10514067.187759565,
  "ymax": 6092793.3816949259,
  "xmax": -10356417.48359186,
  "spatialReference": {
   "latestWkid": 3857,
   "wkid": 102100
  }
 },
 "pixelSizeX": 0.29999999999999999,
 "pixelSizeY": 0.30000000000000004,
 "defaultMosaicMethod": "Center",
 "name": "Imagery/Itasca_2013_Imagery",
 "allowedMosaicMethods": "Center,Nadir,Viewpoint,Seamline,None,NorthWest,LockRaster",
 "maxDownloadImageCount": 20,
 "fields": [
  {
   "domain": null,
   "name": "OBJECTID",
   "alias": "OBJECTID",
   "type": "esriFieldTypeOID"
  },
  {
   "domain": null,
   "name": "Name",
   "length": 50,
   "alias": "Name",
   "type": "esriFieldTypeString"
  },
  {
   "domain": null,
   "name": "MinPS",
   "alias": "MinPS",
   "type": "esriFieldTypeDouble"
  },
  {
   "domain": null,
   "name": "MaxPS",
   "alias": "MaxPS",
   "type": "esriFieldTypeDouble"
  },
  {
   "domain": null,
   "name": "LowPS",
   "alias": "LowPS",
   "type": "esriFieldTypeDouble"
  },
  {
   "domain": null,
   "name": "HighPS",
   "alias": "HighPS",
   "type": "esriFieldTypeDouble"
  },
  {
   "domain": {
    "splitPolicy": "esriSPTDefaultValue",
    "name": "MosaicCatalogItemCategoryDomain",
    "description": "Catalog item categories.",
    "type": "codedValue",
    "codedValues": [
     {
      "code": 0,
      "name": "Unknown"
     },
     {
      "code": 1,
      "name": "Primary"
     },
     {
      "code": 2,
      "name": "Overview"
     },
     {
      "code": 3,
      "name": "Unprocessed Overview"
     },
     {
      "code": 4,
      "name": "Partial Overview"
     },
     {
      "code": 5,
      "name": "Inactive"
     },
     {
      "code": 253,
      "name": "Uploaded"
     },
     {
      "code": 254,
      "name": "Incomplete"
     },
     {
      "code": 255,
      "name": "Custom"
     }
    ],
    "mergePolicy": "esriMPTDefaultValue"
   },
   "name": "Category",
   "alias": "Category",
   "type": "esriFieldTypeInteger"
  },
  {
   "domain": null,
   "name": "Tag",
   "length": 20,
   "alias": "Tag",
   "type": "esriFieldTypeString"
  },
  {
   "domain": null,
   "name": "GroupName",
   "length": 50,
   "alias": "GroupName",
   "type": "esriFieldTypeString"
  },
  {
   "domain": null,
   "name": "ProductName",
   "length": 50,
   "alias": "ProductName",
   "type": "esriFieldTypeString"
  },
  {
   "domain": null,
   "name": "CenterX",
   "alias": "CenterX",
   "type": "esriFieldTypeDouble"
  },
  {
   "domain": null,
   "name": "CenterY",
   "alias": "CenterY",
   "type": "esriFieldTypeDouble"
  },
  {
   "domain": null,
   "name": "ZOrder",
   "alias": "ZOrder",
   "type": "esriFieldTypeInteger"
  },
  {
   "domain": null,
   "name": "SOrder",
   "alias": "SOrder",
   "type": "esriFieldTypeDouble"
  },
  {
   "domain": null,
   "name": "Shape",
   "alias": "Shape",
   "type": "esriFieldTypeGeometry"
  },
  {
   "domain": null,
   "name": "Shape.STArea()",
   "alias": "Shape.STArea()",
   "type": "esriFieldTypeDouble"
  },
  {
   "domain": null,
   "name": "Shape.STLength()",
   "alias": "Shape.STLength()",
   "type": "esriFieldTypeDouble"
  }
 ],
 "allowAnalysis": true,
 "hasRasterAttributeTable": false,
 "useStandardizedQueries": true,
 "description": "",
 "pixelType": "U8",
 "meanPixelSize": 0.30000000000000004,
 "exportTilesAllowed": false,
 "editFieldsInfo": null,
 "rasterTypeInfos": [
  {
   "help": "",
   "name": "Raster Dataset",
   "description": "Supports all ArcGIS Raster Datasets"
  }
 ],
 "defaultResamplingMethod": "Bilinear",
 "itemAccess": false,
 "minScale": 1155581.108577,
 "cacheType": "Map",
 "serviceProperties": "Center<\/MosaicMethod>Max<\/MosaicOperator>false<\/SortAscending><\/LockImageID>SOrder<\/TileOrderField>0<\/TileOrderBase>600.000000<\/AvgImageSpacingX>300.000000<\/AvgImageSpacingY>0.0<\/ViewPointX>0.0<\/ViewPointY>0.0<\/ViewPointDefShiftX>0.0<\/ViewPointDefShiftY>JPEG<\/CompressionMethod>75<\/CompressionQuality>0.010000<\/CompressionTolerance>Bilinear<\/SamplingMethod><\/ImageServiceProperties><\/ImageServer>",
 "advancedQueryCapabilities": {
  "supportsStatistics": true,
  "supportsSqlExpression": true,
  "supportsOrderBy": true,
  "useStandardizedQueries": true,
  "supportsPagination": true,
  "supportsDistinct": true
 },
 "serviceItemId": "0c18deff52374164b35247b288c50127",
 "capabilities": "Catalog,Mensuration,Image,Metadata",
 "maxScale": 564.24858800000004,
 "singleFusedMapCache": true,
 "stdvValues": [
  32.883995875555222,
  27.461252150379135,
  21.00139214431405,
  37.556242479504547
 ],
 "allowedFields": "Name,MinPS,MaxPS,LowPS,HighPS,Tag,GroupName,ProductName,CenterX,CenterY,ZOrder,Shape.STArea(),Shape.STLength(),SOrder",
 "minPixelSize": 0.14929107082380821,
 "storageInfo": {
  "storageFormat": "esriMapCacheStorageModeExploded",
  "packetSize": 0
 },
 "resampling": false,
 "sortAscending": false,
 "maxMosaicImageCount": 50,
 "inspectionCapabilities": "",
 "maxPixelSize": 305.74811314055728,
 "allowedCompressions": "JPEG,LZ77,None,LERC",
 "uncompressedSize": 1052685902788,
 "serviceDescription": "Imagery/Itasca_2013_Imagery",
 "allowCopy": true,
 "copyrightText": "",
 "mensurationCapabilities": "NONE",
 "ownershipBasedAccessControlForRasters": null
}
